BEGIN:VCALENDAR
VERSION:2.0
PRODID:-//RH-foreningen - ECPv6.14.2//NONSGML v1.0//EN
CALSCALE:GREGORIAN
METHOD:PUBLISH
X-ORIGINAL-URL:https://www.rh-foreningen.no
X-WR-CALDESC:Arrangement for RH-foreningen
REFRESH-INTERVAL;VALUE=DURATION:PT1H
X-Robots-Tag:noindex
X-PUBLISHED-TTL:PT1H
BEGIN:VTIMEZONE
TZID:Europe/Oslo
BEGIN:DAYLIGHT
TZOFFSETFROM:+0100
TZOFFSETTO:+0200
TZNAME:CEST
DTSTART:20260329T010000
END:DAYLIGHT
BEGIN:STANDARD
TZOFFSETFROM:+0200
TZOFFSETTO:+0100
TZNAME:CET
DTSTART:20261025T010000
END:STANDARD
END:VTIMEZONE
BEGIN:VEVENT
DTSTART;VALUE=DATE:20260206
DTEND;VALUE=DATE:20260209
DTSTAMP:20260425T154659
CREATED:20260126T180747Z
LAST-MODIFIED:20260126T191102Z
UID:13505-1770336000-1770595199@www.rh-foreningen.no
SUMMARY:Likepersonskurs
DESCRIPTION:[vc_row][vc_column][vc_custom_heading text=»Kurs for RH‑foreningens likepersoner» use_theme_fonts=»yes» css=»»][vc_column_text css=»»]RH‑foreningen innkaller alle likepersoner til kurshelg 6.–8. februar 2026 på Quality Hotel River Station i Drammen. \nKurset gir faglig påfyll\, trygghet i rollen og rom for erfaringsdeling.[/vc_column_text][/vc_column][/vc_row]
URL:https://www.rh-foreningen.no/aktivitet/likepersonskurs/
END:VEVENT
BEGIN:VEVENT
DTSTART;TZID=Europe/Oslo:20260225T190000
DTEND;TZID=Europe/Oslo:20260225T210000
DTSTAMP:20260425T154659
CREATED:20260212T195920Z
LAST-MODIFIED:20260212T200328Z
UID:13572-1772046000-1772053200@www.rh-foreningen.no
SUMMARY:Nettseminar: Arbeidsliv for folk med ryggmargsbrokk og/eller hydrocephalus
DESCRIPTION:[vc_row][vc_column][vc_custom_heading source=»post_title» use_theme_fonts=»yes» css=»»][vc_column_text css=»»]Hvordan har du det på jobb? Denne kvelden deler vi erfaringer med hverandre\, så bli med![/vc_column_text][/vc_column][/vc_row]
URL:https://www.rh-foreningen.no/aktivitet/nettseminar-arbeidsliv-for-folk-med-ryggmargsbrokk-og-eller-hydrocephalus/
LOCATION:Teams
END:VEVENT
BEGIN:VEVENT
DTSTART;TZID=Europe/Oslo:20260226T190000
DTEND;TZID=Europe/Oslo:20260226T203000
DTSTAMP:20260425T154659
CREATED:20260204T194146Z
LAST-MODIFIED:20260204T194356Z
UID:13528-1772132400-1772137800@www.rh-foreningen.no
SUMMARY:Årsmøte RHØst
DESCRIPTION:[vc_row][vc_column][vc_custom_heading source=»post_title» use_theme_fonts=»yes» css=»»][vc_column_text css=»»]RHØst innkaller sine medlemmer til digitalt årsmøte. Påmeldingsfrist 24. februar. Link til møtet sendes ut etter fristen for påmelding. Velkommen![/vc_column_text][/vc_column][/vc_row]
URL:https://www.rh-foreningen.no/aktivitet/arsmote-rhost/
LOCATION:Teams
END:VEVENT
BEGIN:VEVENT
DTSTART;VALUE=DATE:20260227
DTEND;VALUE=DATE:20260228
DTSTAMP:20260425T154659
CREATED:20251219T211419Z
LAST-MODIFIED:20251219T211617Z
UID:13440-1772150400-1772236799@www.rh-foreningen.no
SUMMARY:Sjeldendagen
DESCRIPTION:[vc_row][vc_column][vc_custom_heading source=»post_title» use_theme_fonts=»yes» css=»»][vc_column_text css=»»]Sjeldendagen er den internasjonale markeringen for å øke bevissthet om sjeldne diagnoser og fungere som en møteplass. Sjeldendagen blir markert og arrangmert i samarbeid med Funksjonshemmedes fellesorganisasjon\, Unge Funksjonshemmede og Nasjonalt senter for sjeldne diagnoser.[/vc_column_text][/vc_column][/vc_row]
URL:https://www.rh-foreningen.no/aktivitet/sjeldendagen/
END:VEVENT
END:VCALENDAR