BEGIN:VCALENDAR
VERSION:2.0
PRODID:-//RH-foreningen - ECPv6.14.2//NONSGML v1.0//EN
CALSCALE:GREGORIAN
METHOD:PUBLISH
X-WR-CALNAME:RH-foreningen
X-ORIGINAL-URL:https://www.rh-foreningen.no
X-WR-CALDESC:Arrangement for RH-foreningen
REFRESH-INTERVAL;VALUE=DURATION:PT1H
X-Robots-Tag:noindex
X-PUBLISHED-TTL:PT1H
BEGIN:VTIMEZONE
TZID:Europe/Oslo
BEGIN:DAYLIGHT
TZOFFSETFROM:+0100
TZOFFSETTO:+0200
TZNAME:CEST
DTSTART:20260329T010000
END:DAYLIGHT
BEGIN:STANDARD
TZOFFSETFROM:+0200
TZOFFSETTO:+0100
TZNAME:CET
DTSTART:20261025T010000
END:STANDARD
END:VTIMEZONE
BEGIN:VEVENT
DTSTART;TZID=Europe/Oslo:20260529T170000
DTEND;TZID=Europe/Oslo:20260531T140000
DTSTAMP:20260423T142609
CREATED:20260215T123116Z
LAST-MODIFIED:20260215T123600Z
UID:13596-1780074000-1780236000@www.rh-foreningen.no
SUMMARY:Medlemssamling
DESCRIPTION:[vc_row][vc_column][vc_custom_heading source=»post_title» use_theme_fonts=»yes» css=»»][vc_column_text css=»»]RH-foreningen inviterer til årets medlemssamling. Velkommen til en innholdsrik og hyggelig helg. En fin anledning til å møtes\, bli bedre kjent og dele erfaringer![/vc_column_text][/vc_column][/vc_row]
URL:https://www.rh-foreningen.no/aktivitet/medlemssamling/
LOCATION:Quality Hotel Sarpsborg\, Bjørnstadveien 20\, Grålum\, 1713\, Norway
END:VEVENT
END:VCALENDAR